BEGIN:VCALENDAR
VERSION:2.0
PRODID:icalendar-ruby
CALSCALE:GREGORIAN
METHOD:PUBLISH
BEGIN:VEVENT
DTSTAMP:20260424T163148Z
UID:84-4689@mbcdallas.com
DTSTART:20260613T120000Z
DTEND:20260613T160000Z
CLASS:PUBLIC
CREATED:20260424T094855
DESCRIPTION:Bring your hotrods\, classics &amp\; cool cars! \nWe're hosting
  a weekend benefit for our youth ministry. Donations are appreciated and a
 ll proceeds help send our group to the Arise Conference in July.\n\nEmail
  events@mbcdallas.com for more information!\n\n\nGIVE NOW
LAST-MODIFIED:20260424T094855
LOCATION:Fellowship Hall
SUMMARY:ARISE & Shine 
URL;VALUE=URI:https://www.mbcdallas.com/events/arise-shine/2026-06-13
ATTACH;FILENAME=arise-shine-teal2.jpg;FMTTYPE=image/jpeg:https://dq5pwpg1q8
 ru0.cloudfront.net/2026/04/24/13/44/58/cd752d37-12d1-499b-9117-183e01e1184
 4/arise-shine-teal2.jpg
END:VEVENT
END:VCALENDAR
